Workbook

Sheet Cumaribo
A1: Comunidad Cumaribo
A2: SOLUCIÓN HÍBRIDA CONCENTRADA 1340 USUARIOS
A3: ITEM | B3: ACTIVO | C3: DESCRIPCIÓN | D3: EJECUCION | G3: VALOR PARCIAL EJECUTADO
A4: 1 | C4: Sistema Solar Fotovoltaico CONCENTRADO PARA 24 USUARIOS | D4: CANTIDAD | E4: UNIDADES | F4: VR. UNITARIO | G4: =SUM(G5:G17) -> 1.4336356e+10
A5: 1.1 | B5: Panel solar | C5: Panel solar Mono facial STC 460 Watt/tolerancia positiva en potencia +3%/0,6%degradacion lineal/eficiencia modulo >= 21,16%. (Incluye Suministro, transporte e instalación) | D5: 3094 | E5: UND | F5: =G5/D5 -> 1111447.3 | G5: 3.438818e+09
A6: 1.2 | B6: Bateria | C6: Cluster de baterias(BAT) Litio, 200,15 KVA e inversor bidireccional 208 KVA ( europeo).Incluye contenedor IP65 (Incluye Suministro, transporte e instalación) | D6: 7 | E6: UND | F6: =G6/D6 -> 7.0372799e+08 | G6: 4.9260959e+09
A7: 1.3 | B7: Inversor | C7: Inversores de conexión a red 200 KW /1500 VDC/800 VAC/Eficiencia máxima >=99% / IP66 / 9 MPPT (Incluye Suministro, transporte e instalación) | D7: 7 | E7: UND | F7: =G7/D7 -> 1.1223973e+08 | G7: 7.8567813e+08
A8: 1.4 | B8: Estructura | C8: Estructuras de fijación de paneles en acero estructural galvanizado (>70 micras), para 52 módulos, dimensiones (30,20 m x 3,8m) (Incluye Suministro, transporte e instalación) | D8: 59.5 | E8: UND | F8: =G8/D8 -> 19166980 | G8: 1.1404353e+09
A9: 1.5 | B9: Malla a tierra | C9: Sistema de tierras de la planta solar (IVA Incluido en conductores) (Incluye Suministro, transporte e instalación) | D9: 1 | E9: UND | F9: =G9/D9 -> 82771306 | G9: 82771306
A10: 1.6 | B10: Equipo de maniobra | C10: Celda de interrupcion DM1A_17 kAmp./SF6 con celda de remonte (Incluye Suministro, transporte e instalación) | D10: 1 | E10: UND | F10: =G10/D10 -> 3.4179802e+08 | G10: 3.4179802e+08
A11: 1.7 | B11: Tablero AC | C11: Tablero de distribución de potencia T_1/ 1600 Amperios,800VAC/42 kA (Incluye Suministro, transporte e instalación) | D11: 1 | E11: UND | F11: =G11/D11 -> 1.791057e+08 | G11: 1.791057e+08
A12: 1.8 | B12: Tablero AC | C12: Tablero de distribución de potencia T_2/ 2000 Amperios,440 VAC/42 kA (Según diagrama unifilar de replanteo Plano: ELE-01) (Incluye Suministro, transporte e instalación) | D12: 1 | E12: UND | F12: =G12/D12 -> 4.0398537e+08 | G12: 4.0398537e+08
A13: 1.9 | B13: Tablero AC | C13: Tablero de distribución de potencia T_3/ 1600 Amperios,480 VAC/42 kA (Incluye Suministro, transporte e instalación) | D13: 1 | E13: UND | F13: =G13/D13 -> 1.767552e+08 | G13: 1.767552e+08
A14: 1.1 | B14: Transformador | C14: Transformador Seco clase H, 1000 kVA trifásico 800/440V. Incluye contenedor ventilado (Incluye Suministro, transporte e instalación) | D14: 1 | E14: UND | F14: =G14/D14 -> 1.1115908e+08 | G14: 1.1115908e+08
A15: 1.11 | B15: Transformador | C15: Transformador Seco clase H, 325 kVA trifásico 480/440V. Incluye contenedor ventilado (Incluye Suministro, transporte e instalación) | D15: 2 | E15: UND | F15: =G15/D15 -> 83643768 | G15: 1.6728754e+08
A16: 1.12 | B16: Transformador | C16: Transformador Seco clase H, 425 kVA trifásico 480/440V. Incluye contenedor ventilado (Incluye Suministro, transporte e instalación) | D16: 2 | E16: UND | F16: =G16/D16 -> 99199694 | G16: 1.9839939e+08
A17: 1.13 | B17: Sistema de comunicaciones | C17: Sistema de comunicaciones, control y monitoreo del sistema híbrido solar fotovoltaico - diésel centralizado Main Control (Incluye Suministro, transporte e instalación) | D17: 1 | E17: UND | F17: =G17/D17 -> 2.3840667e+09 | G17: 2.3840667e+09
A18: 2 | C18: Red de media tensión | G18: =SUM(G19:G23) -> 9.1094111e+08
A19: 2.1 | B19: cable mt subterraneo | C19: Refuerzo acometida existente principal trafo 13,2 KV (IVA incluido en conductores). (Incluye Suministro, transporte e instalación)(cable desalida de la la planta al transformador) | D19: 1 | E19: GLB | F19: =G19/D19 -> 1.0204564e+08 | G19: 1.0204564e+08
A20: 2.2 | B20: cable de extension MT | C20: Líneas de extensión en 13,2 kv, 4,2km (Incluye Suministro, transporte e instalación) (Incluye Suministro, transporte e instalación) | D20: 4.2 | E20: km | F20: =G20/D20 -> 1.2880436e+08 | G20: 5.4097832e+08
A21: 2.3 | B21: cable de extension MT | C21: Líneas de extensión en alimentación secundaria en cable cuádruplex 1/0, 850m (Incluye Suministro, transporte e instalación) | D21: 0.85 | E21: km | F21: =G21/D21 -> 1.3945961e+08 | G21: 1.1854067e+08
A22: 2.4 | B22: Cable Mt cable de guarda para mt | C22: Cable de guarda y accesorios de montaje para líneas de extensión en 13.2 kV, 4,2km (Incluye Suministro, transporte e instalación) | D22: 4.2 | E22: km | F22: =G22/D22 -> 22823071 | G22: 95856898
A23: 2.5 | B23: Cable MT subterraneo | C23: Cableado de media tensión en cable XLPE 15 kV 2/0 AWG, unidad global (Incluye Suministro, transporte e instalación) dentro de la estación generadora | D23: 1 | E23: GLB | F23: =G23/D23 -> 53519584 | G23: 53519584
A24: 3 | C24: Conexión a usuario | G24: =SUM(G25) -> 1.0441984e+09
A25: 3.1 | B25: Medidor | C25: Sistema de medición bidireccional de energía eléctrica, calibrado, Acometidas por MPPT, para transformadores y plantas generadoras (Incluye Suministro, transporte e instalación) | D25: 98 | E25: UND | F25: =G25/D25 -> 10655086 | G25: 1.0441984e+09
A26: 4 | C26: Grupo electrógeno de respaldo | G26: =SUM(G27:G28) -> 3.4124527e+09
A27: 4.1 | B27: Grupo electrogeno | C27: Planta generadora stand by 750 KW/440 V, incluidos accesos se batería arranque, válvulas de corte combustible, soportes anti vibratorios, cabina antruidos. (Incluye Suministro, transporte e instalación) | D27: 1 | E27: UND | F27: =G27/D27 -> 1.3950746e+09 | G27: 1.3950746e+09
A28: 4.2 | B28: Grupo electrogeno | C28: Planta generadora stand by 625 KW/440 V, incluidos accesorios se batería arranque, válvulas de corte combustible, soportes anti vibratorios, cabina antruidos. (Incluye Suministro, transporte e instalación) | D28: 2 | E28: UND | F28: =G28/D28 -> 1.008689e+09 | G28: 2.0173781e+09
A29: 5 | C29: Obras Civiles | G29: =SUM(G30:G31) -> 7.8069819e+08
A30: 5.1 | B30: Caseta | C30: Caseta en estructura para albergar equipos del sistema híbrido solar fotovoltaico - diésel centralizado, Cerramiento perimetral, sistema y tablero de servicios auxiliares (Sistema RCI, Aire acondicionado, UPS, Iluminación) (Incluye Suministro, transporte e instalación) | D30: 1 | E30: GLB | F30: =G30/D30 -> 6.2948331e+08 | G30: 6.2948331e+08
A31: 5.2 | B31: Tanque | C31: Sistema de suministro y abastecimiento de combustible, Sistema de filtración Nanotec y mantenimiento de tanques principales (Incluye Suministro, transporte e instalación) | D31: 1 | E31: UND | F31: =G31/D31 -> 1.5121488e+08 | G31: 1.5121488e+08
A32: TOTAL EJECUTADO EN CUMARIBO | F32: 0 | G32: =G29+G26+G24+G18+G4 -> 2.0484646e+10

Sheet Cumaribo (2)
A1: Comunidad Cumaribo
A2: SOLUCIÓN HÍBRIDA CONCENTRADA 1340 USUARIOS
A3: SECUENCIA | B3: CÓD. ARTÍCULO | C3: NOMBRE ARTÍCULO | D3: ACTIVO | E3: DESCRIPCION | F3: UNIDAD | G3: VALOR UNITARIO | H3: CANTIDAD | I3: TOTAL EJECUTADO | J3: *
A4: 1 | B4: 4020030071 | C4: PANEL SOLAR MONO FACIAL | D4: Panel solar | E4: Panel solar Mono facial STC 460 Watt/tolerancia positiva en potencia +3%/0,6%degradacion lineal/eficiencia modulo >= 21,16%. (Incluye Suministro, transporte e instalación); según lo solicitado en el Memorando 20241520041873; en relación con el objeto del contrato “desarrollar e implementar soluciones individuales solares fotovoltaicas - SISFV para la ampliación de cobertura y mejorar las centrales de generación en las comunidades rurales y dispersas de la ZNI en los diferentes Municipios del Departamento de Vichada”., Proyecto de Generación Solar Híbrida en el Municipio de Cumaribo, Vichada, Contrato Interadministrativo 144 de 2021. | F4: UND | G4: =I4/H4 -> 1111447.3 | H4: 3094 | I4: 3.438818e+09 | J4: según lo solicitado en el Memorando 20241520041873; en relación con el objeto del contrato “desarrollar e implementar soluciones individuales solares fotovoltaicas - SISFV para la ampliación de cobertura y mejorar las centrales de generación en las comunidades rurales y dispersas de la ZNI en los diferentes Municipios del Departamento de Vichada”., Proyecto de Generación Solar Híbrida en el Municipio de Cumaribo, Vichada, Contrato Interadministrativo 144 de 2021.
A5: =+A4+H4+1 -> 3096 | B5: 4020030046 | C5: BATERÍA 200 AH | D5: Bateria | E5: Cluster de baterias(BAT) Litio, 200,15 KVA e inversor bidireccional 208 KVA ( europeo).Incluye contenedor IP65 (Incluye Suministro, transporte e instalación); según lo solicitado en el Memorando 20241520041873; en relación con el objeto del contrato “desarrollar e implementar soluciones individuales solares fotovoltaicas - SISFV para la ampliación de cobertura y mejorar las centrales de generación en las comunidades rurales y dispersas de la ZNI en los diferentes Municipios del Departamento de Vichada”., Proyecto de Generación Solar Híbrida en el Municipio de Cumaribo, Vichada, Contrato Interadministrativo 144 de 2021. | F5: UND | G5: =I5/H5 -> 7.0372799e+08 | H5: 7 | I5: 4.9260959e+09 | J5: según lo solicitado en el Memorando 20241520041873; en relación con el objeto del contrato “desarrollar e implementar soluciones individuales solares fotovoltaicas - SISFV para la ampliación de cobertura y mejorar las centrales de generación en las comunidades rurales y dispersas de la ZNI en los diferentes Municipios del Departamento de Vichada”., Proyecto de Generación Solar Híbrida en el Municipio de Cumaribo, Vichada, Contrato Interadministrativo 144 de 2021.
A6: =+A5+H5 -> 3103 | B6: 4020030078 | C6: INVERSOR DE CONEXIÓN | D6: Inversor | E6: Inversores de conexión a red 200 KW /1500 VDC/800 VAC/Eficiencia máxima >=99% / IP66 / 9 MPPT (Incluye Suministro, transporte e instalación); según lo solicitado en el Memorando 20241520041873; en relación con el objeto del contrato “desarrollar e implementar soluciones individuales solares fotovoltaicas - SISFV para la ampliación de cobertura y mejorar las centrales de generación en las comunidades rurales y dispersas de la ZNI en los diferentes Municipios del Departamento de Vichada”., Proyecto de Generación Solar Híbrida en el Municipio de Cumaribo, Vichada, Contrato Interadministrativo 144 de 2021. | F6: UND | G6: =I6/H6 -> 1.1223973e+08 | H6: 7 | I6: 7.8567813e+08 | J6: según lo solicitado en el Memorando 20241520041873; en relación con el objeto del contrato “desarrollar e implementar soluciones individuales solares fotovoltaicas - SISFV para la ampliación de cobertura y mejorar las centrales de generación en las comunidades rurales y dispersas de la ZNI en los diferentes Municipios del Departamento de Vichada”., Proyecto de Generación Solar Híbrida en el Municipio de Cumaribo, Vichada, Contrato Interadministrativo 144 de 2021.
A7: =+A6+H6 -> 3110 | B7: 4040010088 | C7: ESTRUCTURA DE SOPORTE PARA SISTEMAS HÍBRIDOS A PISO | D7: Estructura | E7: Estructuras de fijación de paneles en acero estructural galvanizado (>70 micras), para 52 módulos, dimensiones (30,20 m x 3,8m) (Incluye Suministro, transporte e instalación); según lo solicitado en el Memorando 20241520041873; en relación con el objeto del contrato “desarrollar e implementar soluciones individuales solares fotovoltaicas - SISFV para la ampliación de cobertura y mejorar las centrales de generación en las comunidades rurales y dispersas de la ZNI en los diferentes Municipios del Departamento de Vichada”., Proyecto de Generación Solar Híbrida en el Municipio de Cumaribo, Vichada, Contrato Interadministrativo 144 de 2021. | F7: UND | G7: =I7/H7 -> 1.1404353e+09 | H7: 1 | I7: 1.1404353e+09 | J7: según lo solicitado en el Memorando 20241520041873; en relación con el objeto del contrato “desarrollar e implementar soluciones individuales solares fotovoltaicas - SISFV para la ampliación de cobertura y mejorar las centrales de generación en las comunidades rurales y dispersas de la ZNI en los diferentes Municipios del Departamento de Vichada”., Proyecto de Generación Solar Híbrida en el Municipio de Cumaribo, Vichada, Contrato Interadministrativo 144 de 2021.
A8: =+A7+H7 -> 3111 | B8: 4020030033 | C8: Malla a tierra en cable de cobre desnudo Nº 1/0, varillas de cobre de 5/8" x 2.4 m, soldadura exotér | D8: Malla a tierra | E8: Sistema de tierras de la planta solar (IVA Incluido en conductores) (Incluye Suministro, transporte e instalación); según lo solicitado en el Memorando 20241520041873; en relación con el objeto del contrato “desarrollar e implementar soluciones individuales solares fotovoltaicas - SISFV para la ampliación de cobertura y mejorar las centrales de generación en las comunidades rurales y dispersas de la ZNI en los diferentes Municipios del Departamento de Vichada”., Proyecto de Generación Solar Híbrida en el Municipio de Cumaribo, Vichada, Contrato Interadministrativo 144 de 2021. | F8: UND | G8: =I8/H8 -> 82771306 | H8: 1 | I8: 82771306 | J8: según lo solicitado en el Memorando 20241520041873; en relación con el objeto del contrato “desarrollar e implementar soluciones individuales solares fotovoltaicas - SISFV para la ampliación de cobertura y mejorar las centrales de generación en las comunidades rurales y dispersas de la ZNI en los diferentes Municipios del Departamento de Vichada”., Proyecto de Generación Solar Híbrida en el Municipio de Cumaribo, Vichada, Contrato Interadministrativo 144 de 2021.
A9: =+A8+H8 -> 3112 | B9: 4030010007 | C9: CELDA DE INTERRUPCIÓN | D9: Equipo de maniobra | E9: Celda de interrupcion DM1A_17 kAmp./SF6 con celda de remonte (Incluye Suministro, transporte e instalación); según lo solicitado en el Memorando 20241520041873; en relación con el objeto del contrato “desarrollar e implementar soluciones individuales solares fotovoltaicas - SISFV para la ampliación de cobertura y mejorar las centrales de generación en las comunidades rurales y dispersas de la ZNI en los diferentes Municipios del Departamento de Vichada”., Proyecto de Generación Solar Híbrida en el Municipio de Cumaribo, Vichada, Contrato Interadministrativo 144 de 2021. | F9: UND | G9: =I9/H9 -> 3.4179802e+08 | H9: 1 | I9: 3.4179802e+08 | J9: según lo solicitado en el Memorando 20241520041873; en relación con el objeto del contrato “desarrollar e implementar soluciones individuales solares fotovoltaicas - SISFV para la ampliación de cobertura y mejorar las centrales de generación en las comunidades rurales y dispersas de la ZNI en los diferentes Municipios del Departamento de Vichada”., Proyecto de Generación Solar Híbrida en el Municipio de Cumaribo, Vichada, Contrato Interadministrativo 144 de 2021.
A10: =+A9+H9 -> 3113 | B10: 4020030075 | C10: TABLERO AC/DC | D10: Tablero AC | E10: Tablero de distribución de potencia T_1/ 1600 Amperios,800VAC/42 kA (Incluye Suministro, transporte e instalación); según lo solicitado en el Memorando 20241520041873; en relación con el objeto del contrato “desarrollar e implementar soluciones individuales solares fotovoltaicas - SISFV para la ampliación de cobertura y mejorar las centrales de generación en las comunidades rurales y dispersas de la ZNI en los diferentes Municipios del Departamento de Vichada”., Proyecto de Generación Solar Híbrida en el Municipio de Cumaribo, Vichada, Contrato Interadministrativo 144 de 2021. | F10: UND | G10: =I10/H10 -> 1.791057e+08 | H10: 1 | I10: 1.791057e+08 | J10: según lo solicitado en el Memorando 20241520041873; en relación con el objeto del contrato “desarrollar e implementar soluciones individuales solares fotovoltaicas - SISFV para la ampliación de cobertura y mejorar las centrales de generación en las comunidades rurales y dispersas de la ZNI en los diferentes Municipios del Departamento de Vichada”., Proyecto de Generación Solar Híbrida en el Municipio de Cumaribo, Vichada, Contrato Interadministrativo 144 de 2021.
A11: =+A10+H10 -> 3114 | B11: 4020030075 | C11: TABLERO AC/DC | D11: Tablero AC | E11: Tablero de distribución de potencia T_2/ 2000 Amperios,440 VAC/42 kA (Según diagrama unifilar de replanteo Plano: ELE-01) (Incluye Suministro, transporte e instalación); según lo solicitado en el Memorando 20241520041873; en relación con el objeto del contrato “desarrollar e implementar soluciones individuales solares fotovoltaicas - SISFV para la ampliación de cobertura y mejorar las centrales de generación en las comunidades rurales y dispersas de la ZNI en los diferentes Municipios del Departamento de Vichada”., Proyecto de Generación Solar Híbrida en el Municipio de Cumaribo, Vichada, Contrato Interadministrativo 144 de 2021. | F11: UND | G11: =I11/H11 -> 4.0398537e+08 | H11: 1 | I11: 4.0398537e+08 | J11: según lo solicitado en el Memorando 20241520041873; en relación con el objeto del contrato “desarrollar e implementar soluciones individuales solares fotovoltaicas - SISFV para la ampliación de cobertura y mejorar las centrales de generación en las comunidades rurales y dispersas de la ZNI en los diferentes Municipios del Departamento de Vichada”., Proyecto de Generación Solar Híbrida en el Municipio de Cumaribo, Vichada, Contrato Interadministrativo 144 de 2021.
A12: =+A11+H11 -> 3115 | B12: 4020030075 | C12: TABLERO AC/DC | D12: Tablero AC | E12: Tablero de distribución de potencia T_3/ 1600 Amperios,480 VAC/42 kA (Incluye Suministro, transporte e instalación); según lo solicitado en el Memorando 20241520041873; en relación con el objeto del contrato “desarrollar e implementar soluciones individuales solares fotovoltaicas - SISFV para la ampliación de cobertura y mejorar las centrales de generación en las comunidades rurales y dispersas de la ZNI en los diferentes Municipios del Departamento de Vichada”., Proyecto de Generación Solar Híbrida en el Municipio de Cumaribo, Vichada, Contrato Interadministrativo 144 de 2021. | F12: UND | G12: =I12/H12 -> 1.767552e+08 | H12: 1 | I12: 1.767552e+08 | J12: según lo solicitado en el Memorando 20241520041873; en relación con el objeto del contrato “desarrollar e implementar soluciones individuales solares fotovoltaicas - SISFV para la ampliación de cobertura y mejorar las centrales de generación en las comunidades rurales y dispersas de la ZNI en los diferentes Municipios del Departamento de Vichada”., Proyecto de Generación Solar Híbrida en el Municipio de Cumaribo, Vichada, Contrato Interadministrativo 144 de 2021.
A13: =+A12+H12 -> 3116 | B13: 4030010006 | C13: TRANSFORMADOR SECO | D13: Transformador | E13: Transformador Seco clase H, 1000 kVA trifásico 800/440V. Incluye contenedor ventilado (Incluye Suministro, transporte e instalación); según lo solicitado en el Memorando 20241520041873; en relación con el objeto del contrato “desarrollar e implementar soluciones individuales solares fotovoltaicas - SISFV para la ampliación de cobertura y mejorar las centrales de generación en las comunidades rurales y dispersas de la ZNI en los diferentes Municipios del Departamento de Vichada”., Proyecto de Generación Solar Híbrida en el Municipio de Cumaribo, Vichada, Contrato Interadministrativo 144 de 2021. | F13: UND | G13: =I13/H13 -> 1.1115908e+08 | H13: 1 | I13: 1.1115908e+08 | J13: según lo solicitado en el Memorando 20241520041873; en relación con el objeto del contrato “desarrollar e implementar soluciones individuales solares fotovoltaicas - SISFV para la ampliación de cobertura y mejorar las centrales de generación en las comunidades rurales y dispersas de la ZNI en los diferentes Municipios del Departamento de Vichada”., Proyecto de Generación Solar Híbrida en el Municipio de Cumaribo, Vichada, Contrato Interadministrativo 144 de 2021.
A14: =+A13+H13 -> 3117 | B14: 4030010006 | C14: TRANSFORMADOR SECO | D14: Transformador | E14: Transformador Seco clase H, 325 kVA trifásico 480/440V. Incluye contenedor ventilado (Incluye Suministro, transporte e instalación); según lo solicitado en el Memorando 20241520041873; en relación con el objeto del contrato “desarrollar e implementar soluciones individuales solares fotovoltaicas - SISFV para la ampliación de cobertura y mejorar las centrales de generación en las comunidades rurales y dispersas de la ZNI en los diferentes Municipios del Departamento de Vichada”., Proyecto de Generación Solar Híbrida en el Municipio de Cumaribo, Vichada, Contrato Interadministrativo 144 de 2021. | F14: UND | G14: =I14/H14 -> 83643768 | H14: 2 | I14: 1.6728754e+08 | J14: según lo solicitado en el Memorando 20241520041873; en relación con el objeto del contrato “desarrollar e implementar soluciones individuales solares fotovoltaicas - SISFV para la ampliación de cobertura y mejorar las centrales de generación en las comunidades rurales y dispersas de la ZNI en los diferentes Municipios del Departamento de Vichada”., Proyecto de Generación Solar Híbrida en el Municipio de Cumaribo, Vichada, Contrato Interadministrativo 144 de 2021.
A15: =+A14+H14 -> 3119 | B15: 4030010006 | C15: TRANSFORMADOR SECO | D15: Transformador | E15: Transformador Seco clase H, 425 kVA trifásico 480/440V. Incluye contenedor ventilado (Incluye Suministro, transporte e instalación); según lo solicitado en el Memorando 20241520041873; en relación con el objeto del contrato “desarrollar e implementar soluciones individuales solares fotovoltaicas - SISFV para la ampliación de cobertura y mejorar las centrales de generación en las comunidades rurales y dispersas de la ZNI en los diferentes Municipios del Departamento de Vichada”., Proyecto de Generación Solar Híbrida en el Municipio de Cumaribo, Vichada, Contrato Interadministrativo 144 de 2021. | F15: UND | G15: =I15/H15 -> 99199694 | H15: 2 | I15: 1.9839939e+08 | J15: según lo solicitado en el Memorando 20241520041873; en relación con el objeto del contrato “desarrollar e implementar soluciones individuales solares fotovoltaicas - SISFV para la ampliación de cobertura y mejorar las centrales de generación en las comunidades rurales y dispersas de la ZNI en los diferentes Municipios del Departamento de Vichada”., Proyecto de Generación Solar Híbrida en el Municipio de Cumaribo, Vichada, Contrato Interadministrativo 144 de 2021.
A16: =+A15+H15 -> 3121 | B16: 4020030031 | C16: Sistema de comunicaciones, control y monitoreo del sistema híbrido solar fotovoltaico - diésel centr | D16: Sistema de comunicaciones | E16: Sistema de comunicaciones, control y monitoreo del sistema híbrido solar fotovoltaico - diésel centralizado Main Control (Incluye Suministro, transporte e instalación); según lo solicitado en el Memorando 20241520041873; en relación con el objeto del contrato “desarrollar e implementar soluciones individuales solares fotovoltaicas - SISFV para la ampliación de cobertura y mejorar las centrales de generación en las comunidades rurales y dispersas de la ZNI en los diferentes Municipios del Departamento de Vichada”., Proyecto de Generación Solar Híbrida en el Municipio de Cumaribo, Vichada, Contrato Interadministrativo 144 de 2021. | F16: UND | G16: =I16/H16 -> 2.3840667e+09 | H16: 1 | I16: 2.3840667e+09 | J16: según lo solicitado en el Memorando 20241520041873; en relación con el objeto del contrato “desarrollar e implementar soluciones individuales solares fotovoltaicas - SISFV para la ampliación de cobertura y mejorar las centrales de generación en las comunidades rurales y dispersas de la ZNI en los diferentes Municipios del Departamento de Vichada”., Proyecto de Generación Solar Híbrida en el Municipio de Cumaribo, Vichada, Contrato Interadministrativo 144 de 2021.
A17: =+A16+H16 -> 3122 | B17: 4010011152 | C17: CABLE MT. SUBTERRÁNEO | D17: cable mt subterraneo | E17: Refuerzo acometida existente principal trafo 13,2 KV (IVA incluido en conductores). (Incluye Suministro, transporte e instalación)(cable desalida de la la planta al transformador); según lo solicitado en el Memorando 20241520041873; en relación con el objeto del contrato “desarrollar e implementar soluciones individuales solares fotovoltaicas - SISFV para la ampliación de cobertura y mejorar las centrales de generación en las comunidades rurales y dispersas de la ZNI en los diferentes Municipios del Departamento de Vichada”., Proyecto de Generación Solar Híbrida en el Municipio de Cumaribo, Vichada, Contrato Interadministrativo 144 de 2021. | F17: GLB | G17: =I17/H17 -> 1.0204564e+08 | H17: 1 | I17: 1.0204564e+08 | J17: según lo solicitado en el Memorando 20241520041873; en relación con el objeto del contrato “desarrollar e implementar soluciones individuales solares fotovoltaicas - SISFV para la ampliación de cobertura y mejorar las centrales de generación en las comunidades rurales y dispersas de la ZNI en los diferentes Municipios del Departamento de Vichada”., Proyecto de Generación Solar Híbrida en el Municipio de Cumaribo, Vichada, Contrato Interadministrativo 144 de 2021.
... A26: =+A25+H25 -> 3229 | B26: 4020010017 | C26: TANQUE DE COMBUSTIBLE GRUPO ELECTRÓGENOS | D26: Tanque | E26: Sistema de suministro y abastecimiento de combustible, Sistema de filtración Nanotec y mantenimiento de tanques principales (Incluye Suministro, transporte e instalación); según lo solicitado en el Memorando 20241520041873; en relación con el objeto del contrato “desarrollar e implementar soluciones individuales solares fotovoltaicas - SISFV para la ampliación de cobertura y mejorar las centrales de generación en las comunidades rurales y dispersas de la ZNI en los diferentes Municipios del Departamento de Vichada”., Proyecto de Generación Solar Híbrida en el Municipio de Cumaribo, Vichada, Contrato Interadministrativo 144 de 2021. | F26: UND | G26: =I26/H26 -> 1.5121488e+08 | H26: 1 | I26: 1.5121488e+08 | J26: según lo solicitado en el Memorando 20241520041873; en relación con el objeto del contrato “desarrollar e implementar soluciones individuales solares fotovoltaicas - SISFV para la ampliación de cobertura y mejorar las centrales de generación en las comunidades rurales y dispersas de la ZNI en los diferentes Municipios del Departamento de Vichada”., Proyecto de Generación Solar Híbrida en el Municipio de Cumaribo, Vichada, Contrato Interadministrativo 144 de 2021.
A27: TOTAL EJECUTADO EN CUMARIBO | H27: =SUM(H4:H26) -> 3228 | I27: =SUM(I4:I26) -> 2.0484646e+10
H29: ENTRADA 1 | I29: 1.734878e+10 | J29: 3218
H30: ENTRADA 2 | I30: 2.7607112e+09 | J30: 7
H31: ENTRADA 3 | I31: 3.751546e+08 | J31: 3
H32: TOTAL | I32: =SUM(I29:I31) -> 20484646035 | J32: =SUM(J29:J31) -> 3228
H33: DIFERENCIA | I33: =+I27-I32 -> -0.0024490356

Sheet LLAVE
A1: CONSECUTIVO | B1: CÓDIGO ARTÍCULO | C1: NOMBRE ARTÍCULO | D1: MUNICIPIO | E1: VALOR UNITARIO | F1: CANTIDAD | G1: DESCRIPCION | H1: LLAVE
A2: 1 | B2: =+VLOOKUP(ROW(),'Cumaribo (2)'!$A$3:$I$26,2,1) -> 4020030071 | C2: =+VLOOKUP($B2,'Cumaribo (2)'!$B$3:$I$26,MATCH(LLAVE!C$1,'Cumaribo (2)'!$B$3:$I$3,0),0) -> PANEL SOLAR MONO FACIAL | D2: CUMARIBO | E2: =+VLOOKUP($B2,'Cumaribo (2)'!$B$3:$I$26,MATCH(LLAVE!E$1,'Cumaribo (2)'!$B$3:$I$3,0),0) -> 1111447.3 | F2: 1 | G2: =+VLOOKUP($B2,'Cumaribo (2)'!$B$3:$I$26,MATCH(LLAVE!G$1,'Cumaribo (2)'!$B$3:$I$3,0),0) -> Panel solar Mono facial STC 460 Watt/tolerancia positiva en potencia +3%/0,6%degradacion lineal/eficiencia modulo >= 21,16%. (Incluye Suministro, transporte e instalación); según lo solicitado en el Memorando 20241520041873; en relación con el objeto del contrato “desarrollar e implementar soluciones individuales solares fotovoltaicas - SISFV para la ampliación de cobertura y mejorar las centrales de generación en las comunidades rurales y dispersas de la ZNI en los diferentes Municipios del Departamento de Vichada”., Proyecto de Generación Solar Híbrida en el Municipio de Cumaribo, Vichada, Contrato Interadministrativo 144 de 2021. | H2: =+A2&B2&C2&E2 -> 14020030071PANEL SOLAR MONO FACIAL1111447,31403533 | L2: Valores
A3: 2 | B3: =+VLOOKUP(ROW(),'Cumaribo (2)'!$A$3:$I$26,2,1) -> 4020030071 | C3: =+VLOOKUP($B3,'Cumaribo (2)'!$B$3:$I$26,MATCH(LLAVE!C$1,'Cumaribo (2)'!$B$3:$I$3,0),0) -> PANEL SOLAR MONO FACIAL | D3: CUMARIBO | E3: =+VLOOKUP($B3,'Cumaribo (2)'!$B$3:$I$26,MATCH(LLAVE!E$1,'Cumaribo (2)'!$B$3:$I$3,0),0) -> 1111447.3 | F3: 1 | G3: =+VLOOKUP($B3,'Cumaribo (2)'!$B$3:$I$26,MATCH(LLAVE!G$1,'Cumaribo (2)'!$B$3:$I$3,0),0) -> Panel solar Mono facial STC 460 Watt/tolerancia positiva en potencia +3%/0,6%degradacion lineal/eficiencia modulo >= 21,16%. (Incluye Suministro, transporte e instalación); según lo solicitado en el Memorando 20241520041873; en relación con el objeto del contrato “desarrollar e implementar soluciones individuales solares fotovoltaicas - SISFV para la ampliación de cobertura y mejorar las centrales de generación en las comunidades rurales y dispersas de la ZNI en los diferentes Municipios del Departamento de Vichada”., Proyecto de Generación Solar Híbrida en el Municipio de Cumaribo, Vichada, Contrato Interadministrativo 144 de 2021. | H3: =+A3&B3&C3&E3 -> 24020030071PANEL SOLAR MONO FACIAL1111447,31403533 | K3: CÓDIGO ARTÍCULO | L3: Cuenta de CÓDIGO ARTÍCULO | M3: Suma de VALOR UNITARIO
A4: 3 | B4: =+VLOOKUP(ROW(),'Cumaribo (2)'!$A$3:$I$26,2,1) -> 4020030071 | C4: =+VLOOKUP($B4,'Cumaribo (2)'!$B$3:$I$26,MATCH(LLAVE!C$1,'Cumaribo (2)'!$B$3:$I$3,0),0) -> PANEL SOLAR MONO FACIAL | D4: CUMARIBO | E4: =+VLOOKUP($B4,'Cumaribo (2)'!$B$3:$I$26,MATCH(LLAVE!E$1,'Cumaribo (2)'!$B$3:$I$3,0),0) -> 1111447.3 | F4: 1 | G4: =+VLOOKUP($B4,'Cumaribo (2)'!$B$3:$I$26,MATCH(LLAVE!G$1,'Cumaribo (2)'!$B$3:$I$3,0),0) -> Panel solar Mono facial STC 460 Watt/tolerancia positiva en potencia +3%/0,6%degradacion lineal/eficiencia modulo >= 21,16%. (Incluye Suministro, transporte e instalación); según lo solicitado en el Memorando 20241520041873; en relación con el objeto del contrato “desarrollar e implementar soluciones individuales solares fotovoltaicas - SISFV para la ampliación de cobertura y mejorar las centrales de generación en las comunidades rurales y dispersas de la ZNI en los diferentes Municipios del Departamento de Vichada”., Proyecto de Generación Solar Híbrida en el Municipio de Cumaribo, Vichada, Contrato Interadministrativo 144 de 2021. | H4: =+A4&B4&C4&E4 -> 34020030071PANEL SOLAR MONO FACIAL1111447,31403533 | K4: 3020010006 | L4: 1 | M4: 6.2948331e+08
A5: 4 | B5: =+VLOOKUP(ROW(),'Cumaribo (2)'!$A$3:$I$26,2,1) -> 4020030071 | C5: =+VLOOKUP($B5,'Cumaribo (2)'!$B$3:$I$26,MATCH(LLAVE!C$1,'Cumaribo (2)'!$B$3:$I$3,0),0) -> PANEL SOLAR MONO FACIAL | D5: CUMARIBO | E5: =+VLOOKUP($B5,'Cumaribo (2)'!$B$3:$I$26,MATCH(LLAVE!E$1,'Cumaribo (2)'!$B$3:$I$3,0),0) -> 1111447.3 | F5: 1 | G5: =+VLOOKUP($B5,'Cumaribo (2)'!$B$3:$I$26,MATCH(LLAVE!G$1,'Cumaribo (2)'!$B$3:$I$3,0),0) -> Panel solar Mono facial STC 460 Watt/tolerancia positiva en potencia +3%/0,6%degradacion lineal/eficiencia modulo >= 21,16%. (Incluye Suministro, transporte e instalación); según lo solicitado en el Memorando 20241520041873; en relación con el objeto del contrato “desarrollar e implementar soluciones individuales solares fotovoltaicas - SISFV para la ampliación de cobertura y mejorar las centrales de generación en las comunidades rurales y dispersas de la ZNI en los diferentes Municipios del Departamento de Vichada”., Proyecto de Generación Solar Híbrida en el Municipio de Cumaribo, Vichada, Contrato Interadministrativo 144 de 2021. | H5: =+A5&B5&C5&E5 -> 44020030071PANEL SOLAR MONO FACIAL1111447,31403533 | K5: 4010011152 | L5: 2 | M5: 2.0409128e+08
A6: 5 | B6: =+VLOOKUP(ROW(),'Cumaribo (2)'!$A$3:$I$26,2,1) -> 4020030071 | C6: =+VLOOKUP($B6,'Cumaribo (2)'!$B$3:$I$26,MATCH(LLAVE!C$1,'Cumaribo (2)'!$B$3:$I$3,0),0) -> PANEL SOLAR MONO FACIAL | D6: CUMARIBO | E6: =+VLOOKUP($B6,'Cumaribo (2)'!$B$3:$I$26,MATCH(LLAVE!E$1,'Cumaribo (2)'!$B$3:$I$3,0),0) -> 1111447.3 | F6: 1 | G6: =+VLOOKUP($B6,'Cumaribo (2)'!$B$3:$I$26,MATCH(LLAVE!G$1,'Cumaribo (2)'!$B$3:$I$3,0),0) -> Panel solar Mono facial STC 460 Watt/tolerancia positiva en potencia +3%/0,6%degradacion lineal/eficiencia modulo >= 21,16%. (Incluye Suministro, transporte e instalación); según lo solicitado en el Memorando 20241520041873; en relación con el objeto del contrato “desarrollar e implementar soluciones individuales solares fotovoltaicas - SISFV para la ampliación de cobertura y mejorar las centrales de generación en las comunidades rurales y dispersas de la ZNI en los diferentes Municipios del Departamento de Vichada”., Proyecto de Generación Solar Híbrida en el Municipio de Cumaribo, Vichada, Contrato Interadministrativo 144 de 2021. | H6: =+A6&B6&C6&E6 -> 54020030071PANEL SOLAR MONO FACIAL1111447,31403533 | K6: 4010011153 | L6: 2 | M6: 1.0819566e+09
A7: 6 | B7: =+VLOOKUP(ROW(),'Cumaribo (2)'!$A$3:$I$26,2,1) -> 4020030071 | C7: =+VLOOKUP($B7,'Cumaribo (2)'!$B$3:$I$26,MATCH(LLAVE!C$1,'Cumaribo (2)'!$B$3:$I$3,0),0) -> PANEL SOLAR MONO FACIAL | D7: CUMARIBO | E7: =+VLOOKUP($B7,'Cumaribo (2)'!$B$3:$I$26,MATCH(LLAVE!E$1,'Cumaribo (2)'!$B$3:$I$3,0),0) -> 1111447.3 | F7: 1 | G7: =+VLOOKUP($B7,'Cumaribo (2)'!$B$3:$I$26,MATCH(LLAVE!G$1,'Cumaribo (2)'!$B$3:$I$3,0),0) -> Panel solar Mono facial STC 460 Watt/tolerancia positiva en potencia +3%/0,6%degradacion lineal/eficiencia modulo >= 21,16%. (Incluye Suministro, transporte e instalación); según lo solicitado en el Memorando 20241520041873; en relación con el objeto del contrato “desarrollar e implementar soluciones individuales solares fotovoltaicas - SISFV para la ampliación de cobertura y mejorar las centrales de generación en las comunidades rurales y dispersas de la ZNI en los diferentes Municipios del Departamento de Vichada”., Proyecto de Generación Solar Híbrida en el Municipio de Cumaribo, Vichada, Contrato Interadministrativo 144 de 2021. | H7: =+A7&B7&C7&E7 -> 64020030071PANEL SOLAR MONO FACIAL1111447,31403533 | K7: 4010011154 | L7: 1 | M7: 95856898
A8: 7 | B8: =+VLOOKUP(ROW(),'Cumaribo (2)'!$A$3:$I$26,2,1) -> 4020030071 | C8: =+VLOOKUP($B8,'Cumaribo (2)'!$B$3:$I$26,MATCH(LLAVE!C$1,'Cumaribo (2)'!$B$3:$I$3,0),0) -> PANEL SOLAR MONO FACIAL | D8: CUMARIBO | E8: =+VLOOKUP($B8,'Cumaribo (2)'!$B$3:$I$26,MATCH(LLAVE!E$1,'Cumaribo (2)'!$B$3:$I$3,0),0) -> 1111447.3 | F8: 1 | G8: =+VLOOKUP($B8,'Cumaribo (2)'!$B$3:$I$26,MATCH(LLAVE!G$1,'Cumaribo (2)'!$B$3:$I$3,0),0) -> Panel solar Mono facial STC 460 Watt/tolerancia positiva en potencia +3%/0,6%degradacion lineal/eficiencia modulo >= 21,16%. (Incluye Suministro, transporte e instalación); según lo solicitado en el Memorando 20241520041873; en relación con el objeto del contrato “desarrollar e implementar soluciones individuales solares fotovoltaicas - SISFV para la ampliación de cobertura y mejorar las centrales de generación en las comunidades rurales y dispersas de la ZNI en los diferentes Municipios del Departamento de Vichada”., Proyecto de Generación Solar Híbrida en el Municipio de Cumaribo, Vichada, Contrato Interadministrativo 144 de 2021. | H8: =+A8&B8&C8&E8 -> 74020030071PANEL SOLAR MONO FACIAL1111447,31403533 | K8: 4020010016 | L8: 3 | M8: 4.1852238e+09
A9: 8 | B9: =+VLOOKUP(ROW(),'Cumaribo (2)'!$A$3:$I$26,2,1) -> 4020030071 | C9: =+VLOOKUP($B9,'Cumaribo (2)'!$B$3:$I$26,MATCH(LLAVE!C$1,'Cumaribo (2)'!$B$3:$I$3,0),0) -> PANEL SOLAR MONO FACIAL | D9: CUMARIBO | E9: =+VLOOKUP($B9,'Cumaribo (2)'!$B$3:$I$26,MATCH(LLAVE!E$1,'Cumaribo (2)'!$B$3:$I$3,0),0) -> 1111447.3 | F9: 1 | G9: =+VLOOKUP($B9,'Cumaribo (2)'!$B$3:$I$26,MATCH(LLAVE!G$1,'Cumaribo (2)'!$B$3:$I$3,0),0) -> Panel solar Mono facial STC 460 Watt/tolerancia positiva en potencia +3%/0,6%degradacion lineal/eficiencia modulo >= 21,16%. (Incluye Suministro, transporte e instalación); según lo solicitado en el Memorando 20241520041873; en relación con el objeto del contrato “desarrollar e implementar soluciones individuales solares fotovoltaicas - SISFV para la ampliación de cobertura y mejorar las centrales de generación en las comunidades rurales y dispersas de la ZNI en los diferentes Municipios del Departamento de Vichada”., Proyecto de Generación Solar Híbrida en el Municipio de Cumaribo, Vichada, Contrato Interadministrativo 144 de 2021. | H9: =+A9&B9&C9&E9 -> 84020030071PANEL SOLAR MONO FACIAL1111447,31403533 | K9: 4020010017 | L9: 1 | M9: 1.5121488e+08
A10: 9 | B10: =+VLOOKUP(ROW(),'Cumaribo (2)'!$A$3:$I$26,2,1) -> 4020030071 | C10: =+VLOOKUP($B10,'Cumaribo (2)'!$B$3:$I$26,MATCH(LLAVE!C$1,'Cumaribo (2)'!$B$3:$I$3,0),0) -> PANEL SOLAR MONO FACIAL | D10: CUMARIBO | E10: =+VLOOKUP($B10,'Cumaribo (2)'!$B$3:$I$26,MATCH(LLAVE!E$1,'Cumaribo (2)'!$B$3:$I$3,0),0) -> 1111447.3 | F10: 1 | G10: =+VLOOKUP($B10,'Cumaribo (2)'!$B$3:$I$26,MATCH(LLAVE!G$1,'Cumaribo (2)'!$B$3:$I$3,0),0) -> Panel solar Mono facial STC 460 Watt/tolerancia positiva en potencia +3%/0,6%degradacion lineal/eficiencia modulo >= 21,16%. (Incluye Suministro, transporte e instalación); según lo solicitado en el Memorando 20241520041873; en relación con el objeto del contrato “desarrollar e implementar soluciones individuales solares fotovoltaicas - SISFV para la ampliación de cobertura y mejorar las centrales de generación en las comunidades rurales y dispersas de la ZNI en los diferentes Municipios del Departamento de Vichada”., Proyecto de Generación Solar Híbrida en el Municipio de Cumaribo, Vichada, Contrato Interadministrativo 144 de 2021. | H10: =+A10&B10&C10&E10 -> 94020030071PANEL SOLAR MONO FACIAL1111447,31403533 | K10: 4020030031 | L10: 1 | M10: 2.3840667e+09
A11: 10 | B11: =+VLOOKUP(ROW(),'Cumaribo (2)'!$A$3:$I$26,2,1) -> 4020030071 | C11: =+VLOOKUP($B11,'Cumaribo (2)'!$B$3:$I$26,MATCH(LLAVE!C$1,'Cumaribo (2)'!$B$3:$I$3,0),0) -> PANEL SOLAR MONO FACIAL | D11: CUMARIBO | E11: =+VLOOKUP($B11,'Cumaribo (2)'!$B$3:$I$26,MATCH(LLAVE!E$1,'Cumaribo (2)'!$B$3:$I$3,0),0) -> 1111447.3 | F11: 1 | G11: =+VLOOKUP($B11,'Cumaribo (2)'!$B$3:$I$26,MATCH(LLAVE!G$1,'Cumaribo (2)'!$B$3:$I$3,0),0) -> Panel solar Mono facial STC 460 Watt/tolerancia positiva en potencia +3%/0,6%degradacion lineal/eficiencia modulo >= 21,16%. (Incluye Suministro, transporte e instalación); según lo solicitado en el Memorando 20241520041873; en relación con el objeto del contrato “desarrollar e implementar soluciones individuales solares fotovoltaicas - SISFV para la ampliación de cobertura y mejorar las centrales de generación en las comunidades rurales y dispersas de la ZNI en los diferentes Municipios del Departamento de Vichada”., Proyecto de Generación Solar Híbrida en el Municipio de Cumaribo, Vichada, Contrato Interadministrativo 144 de 2021. | H11: =+A11&B11&C11&E11 -> 104020030071PANEL SOLAR MONO FACIAL1111447,31403533 | K11: 4020030033 | L11: 1 | M11: 82771306
A12: 11 | B12: =+VLOOKUP(ROW(),'Cumaribo (2)'!$A$3:$I$26,2,1) -> 4020030071 | C12: =+VLOOKUP($B12,'Cumaribo (2)'!$B$3:$I$26,MATCH(LLAVE!C$1,'Cumaribo (2)'!$B$3:$I$3,0),0) -> PANEL SOLAR MONO FACIAL | D12: CUMARIBO | E12: =+VLOOKUP($B12,'Cumaribo (2)'!$B$3:$I$26,MATCH(LLAVE!E$1,'Cumaribo (2)'!$B$3:$I$3,0),0) -> 1111447.3 | F12: 1 | G12: =+VLOOKUP($B12,'Cumaribo (2)'!$B$3:$I$26,MATCH(LLAVE!G$1,'Cumaribo (2)'!$B$3:$I$3,0),0) -> Panel solar Mono facial STC 460 Watt/tolerancia positiva en potencia +3%/0,6%degradacion lineal/eficiencia modulo >= 21,16%. (Incluye Suministro, transporte e instalación); según lo solicitado en el Memorando 20241520041873; en relación con el objeto del contrato “desarrollar e implementar soluciones individuales solares fotovoltaicas - SISFV para la ampliación de cobertura y mejorar las centrales de generación en las comunidades rurales y dispersas de la ZNI en los diferentes Municipios del Departamento de Vichada”., Proyecto de Generación Solar Híbrida en el Municipio de Cumaribo, Vichada, Contrato Interadministrativo 144 de 2021. | H12: =+A12&B12&C12&E12 -> 114020030071PANEL SOLAR MONO FACIAL1111447,31403533 | K12: 4020030046 | L12: 7 | M12: 4.9260959e+09
A13: 12 | B13: =+VLOOKUP(ROW(),'Cumaribo (2)'!$A$3:$I$26,2,1) -> 4020030071 | C13: =+VLOOKUP($B13,'Cumaribo (2)'!$B$3:$I$26,MATCH(LLAVE!C$1,'Cumaribo (2)'!$B$3:$I$3,0),0) -> PANEL SOLAR MONO FACIAL | D13: CUMARIBO | E13: =+VLOOKUP($B13,'Cumaribo (2)'!$B$3:$I$26,MATCH(LLAVE!E$1,'Cumaribo (2)'!$B$3:$I$3,0),0) -> 1111447.3 | F13: 1 | G13: =+VLOOKUP($B13,'Cumaribo (2)'!$B$3:$I$26,MATCH(LLAVE!G$1,'Cumaribo (2)'!$B$3:$I$3,0),0) -> Panel solar Mono facial STC 460 Watt/tolerancia positiva en potencia +3%/0,6%degradacion lineal/eficiencia modulo >= 21,16%. (Incluye Suministro, transporte e instalación); según lo solicitado en el Memorando 20241520041873; en relación con el objeto del contrato “desarrollar e implementar soluciones individuales solares fotovoltaicas - SISFV para la ampliación de cobertura y mejorar las centrales de generación en las comunidades rurales y dispersas de la ZNI en los diferentes Municipios del Departamento de Vichada”., Proyecto de Generación Solar Híbrida en el Municipio de Cumaribo, Vichada, Contrato Interadministrativo 144 de 2021. | H13: =+A13&B13&C13&E13 -> 124020030071PANEL SOLAR MONO FACIAL1111447,31403533 | K13: 4020030070 | L13: 98 | M13: 1.0441984e+09
A14: 13 | B14: =+VLOOKUP(ROW(),'Cumaribo (2)'!$A$3:$I$26,2,1) -> 4020030071 | C14: =+VLOOKUP($B14,'Cumaribo (2)'!$B$3:$I$26,MATCH(LLAVE!C$1,'Cumaribo (2)'!$B$3:$I$3,0),0) -> PANEL SOLAR MONO FACIAL | D14: CUMARIBO | E14: =+VLOOKUP($B14,'Cumaribo (2)'!$B$3:$I$26,MATCH(LLAVE!E$1,'Cumaribo (2)'!$B$3:$I$3,0),0) -> 1111447.3 | F14: 1 | G14: =+VLOOKUP($B14,'Cumaribo (2)'!$B$3:$I$26,MATCH(LLAVE!G$1,'Cumaribo (2)'!$B$3:$I$3,0),0) -> Panel solar Mono facial STC 460 Watt/tolerancia positiva en potencia +3%/0,6%degradacion lineal/eficiencia modulo >= 21,16%. (Incluye Suministro, transporte e instalación); según lo solicitado en el Memorando 20241520041873; en relación con el objeto del contrato “desarrollar e implementar soluciones individuales solares fotovoltaicas - SISFV para la ampliación de cobertura y mejorar las centrales de generación en las comunidades rurales y dispersas de la ZNI en los diferentes Municipios del Departamento de Vichada”., Proyecto de Generación Solar Híbrida en el Municipio de Cumaribo, Vichada, Contrato Interadministrativo 144 de 2021. | H14: =+A14&B14&C14&E14 -> 134020030071PANEL SOLAR MONO FACIAL1111447,31403533 | K14: 4020030071 | L14: 3094 | M14: 3.438818e+09
A15: 14 | B15: =+VLOOKUP(ROW(),'Cumaribo (2)'!$A$3:$I$26,2,1) -> 4020030071 | C15: =+VLOOKUP($B15,'Cumaribo (2)'!$B$3:$I$26,MATCH(LLAVE!C$1,'Cumaribo (2)'!$B$3:$I$3,0),0) -> PANEL SOLAR MONO FACIAL | D15: CUMARIBO | E15: =+VLOOKUP($B15,'Cumaribo (2)'!$B$3:$I$26,MATCH(LLAVE!E$1,'Cumaribo (2)'!$B$3:$I$3,0),0) -> 1111447.3 | F15: 1 | G15: =+VLOOKUP($B15,'Cumaribo (2)'!$B$3:$I$26,MATCH(LLAVE!G$1,'Cumaribo (2)'!$B$3:$I$3,0),0) -> Panel solar Mono facial STC 460 Watt/tolerancia positiva en potencia +3%/0,6%degradacion lineal/eficiencia modulo >= 21,16%. (Incluye Suministro, transporte e instalación); según lo solicitado en el Memorando 20241520041873; en relación con el objeto del contrato “desarrollar e implementar soluciones individuales solares fotovoltaicas - SISFV para la ampliación de cobertura y mejorar las centrales de generación en las comunidades rurales y dispersas de la ZNI en los diferentes Municipios del Departamento de Vichada”., Proyecto de Generación Solar Híbrida en el Municipio de Cumaribo, Vichada, Contrato Interadministrativo 144 de 2021. | H15: =+A15&B15&C15&E15 -> 144020030071PANEL SOLAR MONO FACIAL1111447,31403533 | K15: 4020030075 | L15: 3 | M15: 5.373171e+08
... A19: 18 | B19: =+VLOOKUP(ROW(),'Cumaribo (2)'!$A$3:$I$26,2,1) -> 4020030071 | C19: =+VLOOKUP($B19,'Cumaribo (2)'!$B$3:$I$26,MATCH(LLAVE!C$1,'Cumaribo (2)'!$B$3:$I$3,0),0) -> PANEL SOLAR MONO FACIAL | D19: CUMARIBO | E19: =+VLOOKUP($B19,'Cumaribo (2)'!$B$3:$I$26,MATCH(LLAVE!E$1,'Cumaribo (2)'!$B$3:$I$3,0),0) -> 1111447.3 | F19: 1 | G19: =+VLOOKUP($B19,'Cumaribo (2)'!$B$3:$I$26,MATCH(LLAVE!G$1,'Cumaribo (2)'!$B$3:$I$3,0),0) -> Panel solar Mono facial STC 460 Watt/tolerancia positiva en potencia +3%/0,6%degradacion lineal/eficiencia modulo >= 21,16%. (Incluye Suministro, transporte e instalación); según lo solicitado en el Memorando 20241520041873; en relación con el objeto del contrato “desarrollar e implementar soluciones individuales solares fotovoltaicas - SISFV para la ampliación de cobertura y mejorar las centrales de generación en las comunidades rurales y dispersas de la ZNI en los diferentes Municipios del Departamento de Vichada”., Proyecto de Generación Solar Híbrida en el Municipio de Cumaribo, Vichada, Contrato Interadministrativo 144 de 2021. | H19: =+A19&B19&C19&E19 -> 184020030071PANEL SOLAR MONO FACIAL1111447,31403533 | K19: 4040010088 | L19: 1 | M19: 1.1404353e+09
A20: 19 | B20: =+VLOOKUP(ROW(),'Cumaribo (2)'!$A$3:$I$26,2,1) -> 4020030071 | C20: =+VLOOKUP($B20,'Cumaribo (2)'!$B$3:$I$26,MATCH(LLAVE!C$1,'Cumaribo (2)'!$B$3:$I$3,0),0) -> PANEL SOLAR MONO FACIAL | D20: CUMARIBO | E20: =+VLOOKUP($B20,'Cumaribo (2)'!$B$3:$I$26,MATCH(LLAVE!E$1,'Cumaribo (2)'!$B$3:$I$3,0),0) -> 1111447.3 | F20: 1 | G20: =+VLOOKUP($B20,'Cumaribo (2)'!$B$3:$I$26,MATCH(LLAVE!G$1,'Cumaribo (2)'!$B$3:$I$3,0),0) -> Panel solar Mono facial STC 460 Watt/tolerancia positiva en potencia +3%/0,6%degradacion lineal/eficiencia modulo >= 21,16%. (Incluye Suministro, transporte e instalación); según lo solicitado en el Memorando 20241520041873; en relación con el objeto del contrato “desarrollar e implementar soluciones individuales solares fotovoltaicas - SISFV para la ampliación de cobertura y mejorar las centrales de generación en las comunidades rurales y dispersas de la ZNI en los diferentes Municipios del Departamento de Vichada”., Proyecto de Generación Solar Híbrida en el Municipio de Cumaribo, Vichada, Contrato Interadministrativo 144 de 2021. | H20: =+A20&B20&C20&E20 -> 194020030071PANEL SOLAR MONO FACIAL1111447,31403533 | K20: TOTAL | L20: 3228 | M20: 2.1584801e+10
A21: 20 | B21: =+VLOOKUP(ROW(),'Cumaribo (2)'!$A$3:$I$26,2,1) -> 4020030071 | C21: =+VLOOKUP($B21,'Cumaribo (2)'!$B$3:$I$26,MATCH(LLAVE!C$1,'Cumaribo (2)'!$B$3:$I$3,0),0) -> PANEL SOLAR MONO FACIAL | D21: CUMARIBO | E21: =+VLOOKUP($B21,'Cumaribo (2)'!$B$3:$I$26,MATCH(LLAVE!E$1,'Cumaribo (2)'!$B$3:$I$3,0),0) -> 1111447.3 | F21: 1 | G21: =+VLOOKUP($B21,'Cumaribo (2)'!$B$3:$I$26,MATCH(LLAVE!G$1,'Cumaribo (2)'!$B$3:$I$3,0),0) -> Panel solar Mono facial STC 460 Watt/tolerancia positiva en potencia +3%/0,6%degradacion lineal/eficiencia modulo >= 21,16%. (Incluye Suministro, transporte e instalación); según lo solicitado en el Memorando 20241520041873; en relación con el objeto del contrato “desarrollar e implementar soluciones individuales solares fotovoltaicas - SISFV para la ampliación de cobertura y mejorar las centrales de generación en las comunidades rurales y dispersas de la ZNI en los diferentes Municipios del Departamento de Vichada”., Proyecto de Generación Solar Híbrida en el Municipio de Cumaribo, Vichada, Contrato Interadministrativo 144 de 2021. | H21: =+A21&B21&C21&E21 -> 204020030071PANEL SOLAR MONO FACIAL1111447,31403533
A22: 21 | B22: =+VLOOKUP(ROW(),'Cumaribo (2)'!$A$3:$I$26,2,1) -> 4020030071 | C22: =+VLOOKUP($B22,'Cumaribo (2)'!$B$3:$I$26,MATCH(LLAVE!C$1,'Cumaribo (2)'!$B$3:$I$3,0),0) -> PANEL SOLAR MONO FACIAL | D22: CUMARIBO | E22: =+VLOOKUP($B22,'Cumaribo (2)'!$B$3:$I$26,MATCH(LLAVE!E$1,'Cumaribo (2)'!$B$3:$I$3,0),0) -> 1111447.3 | F22: 1 | G22: =+VLOOKUP($B22,'Cumaribo (2)'!$B$3:$I$26,MATCH(LLAVE!G$1,'Cumaribo (2)'!$B$3:$I$3,0),0) -> Panel solar Mono facial STC 460 Watt/tolerancia positiva en potencia +3%/0,6%degradacion lineal/eficiencia modulo >= 21,16%. (Incluye Suministro, transporte e instalación); según lo solicitado en el Memorando 20241520041873; en relación con el objeto del contrato “desarrollar e implementar soluciones individuales solares fotovoltaicas - SISFV para la ampliación de cobertura y mejorar las centrales de generación en las comunidades rurales y dispersas de la ZNI en los diferentes Municipios del Departamento de Vichada”., Proyecto de Generación Solar Híbrida en el Municipio de Cumaribo, Vichada, Contrato Interadministrativo 144 de 2021. | H22: =+A22&B22&C22&E22 -> 214020030071PANEL SOLAR MONO FACIAL1111447,31403533
A23: 22 | B23: =+VLOOKUP(ROW(),'Cumaribo (2)'!$A$3:$I$26,2,1) -> 4020030071 | C23: =+VLOOKUP($B23,'Cumaribo (2)'!$B$3:$I$26,MATCH(LLAVE!C$1,'Cumaribo (2)'!$B$3:$I$3,0),0) -> PANEL SOLAR MONO FACIAL | D23: CUMARIBO | E23: =+VLOOKUP($B23,'Cumaribo (2)'!$B$3:$I$26,MATCH(LLAVE!E$1,'Cumaribo (2)'!$B$3:$I$3,0),0) -> 1111447.3 | F23: 1 | G23: =+VLOOKUP($B23,'Cumaribo (2)'!$B$3:$I$26,MATCH(LLAVE!G$1,'Cumaribo (2)'!$B$3:$I$3,0),0) -> Panel solar Mono facial STC 460 Watt/tolerancia positiva en potencia +3%/0,6%degradacion lineal/eficiencia modulo >= 21,16%. (Incluye Suministro, transporte e instalación); según lo solicitado en el Memorando 20241520041873; en relación con el objeto del contrato “desarrollar e implementar soluciones individuales solares fotovoltaicas - SISFV para la ampliación de cobertura y mejorar las centrales de generación en las comunidades rurales y dispersas de la ZNI en los diferentes Municipios del Departamento de Vichada”., Proyecto de Generación Solar Híbrida en el Municipio de Cumaribo, Vichada, Contrato Interadministrativo 144 de 2021. | H23: =+A23&B23&C23&E23 -> 224020030071PANEL SOLAR MONO FACIAL1111447,31403533
A24: 23 | B24: =+VLOOKUP(ROW(),'Cumaribo (2)'!$A$3:$I$26,2,1) -> 4020030071 | C24: =+VLOOKUP($B24,'Cumaribo (2)'!$B$3:$I$26,MATCH(LLAVE!C$1,'Cumaribo (2)'!$B$3:$I$3,0),0) -> PANEL SOLAR MONO FACIAL | D24: CUMARIBO | E24: =+VLOOKUP($B24,'Cumaribo (2)'!$B$3:$I$26,MATCH(LLAVE!E$1,'Cumaribo (2)'!$B$3:$I$3,0),0) -> 1111447.3 | F24: 1 | G24: =+VLOOKUP($B24,'Cumaribo (2)'!$B$3:$I$26,MATCH(LLAVE!G$1,'Cumaribo (2)'!$B$3:$I$3,0),0) -> Panel solar Mono facial STC 460 Watt/tolerancia positiva en potencia +3%/0,6%degradacion lineal/eficiencia modulo >= 21,16%. (Incluye Suministro, transporte e instalación); según lo solicitado en el Memorando 20241520041873; en relación con el objeto del contrato “desarrollar e implementar soluciones individuales solares fotovoltaicas - SISFV para la ampliación de cobertura y mejorar las centrales de generación en las comunidades rurales y dispersas de la ZNI en los diferentes Municipios del Departamento de Vichada”., Proyecto de Generación Solar Híbrida en el Municipio de Cumaribo, Vichada, Contrato Interadministrativo 144 de 2021. | H24: =+A24&B24&C24&E24 -> 234020030071PANEL SOLAR MONO FACIAL1111447,31403533
A25: 24 | B25: =+VLOOKUP(ROW(),'Cumaribo (2)'!$A$3:$I$26,2,1) -> 4020030071 | C25: =+VLOOKUP($B25,'Cumaribo (2)'!$B$3:$I$26,MATCH(LLAVE!C$1,'Cumaribo (2)'!$B$3:$I$3,0),0) -> PANEL SOLAR MONO FACIAL | D25: CUMARIBO | E25: =+VLOOKUP($B25,'Cumaribo (2)'!$B$3:$I$26,MATCH(LLAVE!E$1,'Cumaribo (2)'!$B$3:$I$3,0),0) -> 1111447.3 | F25: 1 | G25: =+VLOOKUP($B25,'Cumaribo (2)'!$B$3:$I$26,MATCH(LLAVE!G$1,'Cumaribo (2)'!$B$3:$I$3,0),0) -> Panel solar Mono facial STC 460 Watt/tolerancia positiva en potencia +3%/0,6%degradacion lineal/eficiencia modulo >= 21,16%. (Incluye Suministro, transporte e instalación); según lo solicitado en el Memorando 20241520041873; en relación con el objeto del contrato “desarrollar e implementar soluciones individuales solares fotovoltaicas - SISFV para la ampliación de cobertura y mejorar las centrales de generación en las comunidades rurales y dispersas de la ZNI en los diferentes Municipios del Departamento de Vichada”., Proyecto de Generación Solar Híbrida en el Municipio de Cumaribo, Vichada, Contrato Interadministrativo 144 de 2021. | H25: =+A25&B25&C25&E25 -> 244020030071PANEL SOLAR MONO FACIAL1111447,31403533
A26: 25 | B26: =+VLOOKUP(ROW(),'Cumaribo (2)'!$A$3:$I$26,2,1) -> 4020030071 | C26: =+VLOOKUP($B26,'Cumaribo (2)'!$B$3:$I$26,MATCH(LLAVE!C$1,'Cumaribo (2)'!$B$3:$I$3,0),0) -> PANEL SOLAR MONO FACIAL | D26: CUMARIBO | E26: =+VLOOKUP($B26,'Cumaribo (2)'!$B$3:$I$26,MATCH(LLAVE!E$1,'Cumaribo (2)'!$B$3:$I$3,0),0) -> 1111447.3 | F26: 1 | G26: =+VLOOKUP($B26,'Cumaribo (2)'!$B$3:$I$26,MATCH(LLAVE!G$1,'Cumaribo (2)'!$B$3:$I$3,0),0) -> Panel solar Mono facial STC 460 Watt/tolerancia positiva en potencia +3%/0,6%degradacion lineal/eficiencia modulo >= 21,16%. (Incluye Suministro, transporte e instalación); según lo solicitado en el Memorando 20241520041873; en relación con el objeto del contrato “desarrollar e implementar soluciones individuales solares fotovoltaicas - SISFV para la ampliación de cobertura y mejorar las centrales de generación en las comunidades rurales y dispersas de la ZNI en los diferentes Municipios del Departamento de Vichada”., Proyecto de Generación Solar Híbrida en el Municipio de Cumaribo, Vichada, Contrato Interadministrativo 144 de 2021. | H26: =+A26&B26&C26&E26 -> 254020030071PANEL SOLAR MONO FACIAL1111447,31403533
A27: 26 | B27: =+VLOOKUP(ROW(),'Cumaribo (2)'!$A$3:$I$26,2,1) -> 4020030071 | C27: =+VLOOKUP($B27,'Cumaribo (2)'!$B$3:$I$26,MATCH(LLAVE!C$1,'Cumaribo (2)'!$B$3:$I$3,0),0) -> PANEL SOLAR MONO FACIAL | D27: CUMARIBO | E27: =+VLOOKUP($B27,'Cumaribo (2)'!$B$3:$I$26,MATCH(LLAVE!E$1,'Cumaribo (2)'!$B$3:$I$3,0),0) -> 1111447.3 | F27: 1 | G27: =+VLOOKUP($B27,'Cumaribo (2)'!$B$3:$I$26,MATCH(LLAVE!G$1,'Cumaribo (2)'!$B$3:$I$3,0),0) -> Panel solar Mono facial STC 460 Watt/tolerancia positiva en potencia +3%/0,6%degradacion lineal/eficiencia modulo >= 21,16%. (Incluye Suministro, transporte e instalación); según lo solicitado en el Memorando 20241520041873; en relación con el objeto del contrato “desarrollar e implementar soluciones individuales solares fotovoltaicas - SISFV para la ampliación de cobertura y mejorar las centrales de generación en las comunidades rurales y dispersas de la ZNI en los diferentes Municipios del Departamento de Vichada”., Proyecto de Generación Solar Híbrida en el Municipio de Cumaribo, Vichada, Contrato Interadministrativo 144 de 2021. | H27: =+A27&B27&C27&E27 -> 264020030071PANEL SOLAR MONO FACIAL1111447,31403533
A28: 27 | B28: =+VLOOKUP(ROW(),'Cumaribo (2)'!$A$3:$I$26,2,1) -> 4020030071 | C28: =+VLOOKUP($B28,'Cumaribo (2)'!$B$3:$I$26,MATCH(LLAVE!C$1,'Cumaribo (2)'!$B$3:$I$3,0),0) -> PANEL SOLAR MONO FACIAL | D28: CUMARIBO | E28: =+VLOOKUP($B28,'Cumaribo (2)'!$B$3:$I$26,MATCH(LLAVE!E$1,'Cumaribo (2)'!$B$3:$I$3,0),0) -> 1111447.3 | F28: 1 | G28: =+VLOOKUP($B28,'Cumaribo (2)'!$B$3:$I$26,MATCH(LLAVE!G$1,'Cumaribo (2)'!$B$3:$I$3,0),0) -> Panel solar Mono facial STC 460 Watt/tolerancia positiva en potencia +3%/0,6%degradacion lineal/eficiencia modulo >= 21,16%. (Incluye Suministro, transporte e instalación); según lo solicitado en el Memorando 20241520041873; en relación con el objeto del contrato “desarrollar e implementar soluciones individuales solares fotovoltaicas - SISFV para la ampliación de cobertura y mejorar las centrales de generación en las comunidades rurales y dispersas de la ZNI en los diferentes Municipios del Departamento de Vichada”., Proyecto de Generación Solar Híbrida en el Municipio de Cumaribo, Vichada, Contrato Interadministrativo 144 de 2021. | H28: =+A28&B28&C28&E28 -> 274020030071PANEL SOLAR MONO FACIAL1111447,31403533
A29: 28 | B29: =+VLOOKUP(ROW(),'Cumaribo (2)'!$A$3:$I$26,2,1) -> 4020030071 | C29: =+VLOOKUP($B29,'Cumaribo (2)'!$B$3:$I$26,MATCH(LLAVE!C$1,'Cumaribo (2)'!$B$3:$I$3,0),0) -> PANEL SOLAR MONO FACIAL | D29: CUMARIBO | E29: =+VLOOKUP($B29,'Cumaribo (2)'!$B$3:$I$26,MATCH(LLAVE!E$1,'Cumaribo (2)'!$B$3:$I$3,0),0) -> 1111447.3 | F29: 1 | G29: =+VLOOKUP($B29,'Cumaribo (2)'!$B$3:$I$26,MATCH(LLAVE!G$1,'Cumaribo (2)'!$B$3:$I$3,0),0) -> Panel solar Mono facial STC 460 Watt/tolerancia positiva en potencia +3%/0,6%degradacion lineal/eficiencia modulo >= 21,16%. (Incluye Suministro, transporte e instalación); según lo solicitado en el Memorando 20241520041873; en relación con el objeto del contrato “desarrollar e implementar soluciones individuales solares fotovoltaicas - SISFV para la ampliación de cobertura y mejorar las centrales de generación en las comunidades rurales y dispersas de la ZNI en los diferentes Municipios del Departamento de Vichada”., Proyecto de Generación Solar Híbrida en el Municipio de Cumaribo, Vichada, Contrato Interadministrativo 144 de 2021. | H29: =+A29&B29&C29&E29 -> 284020030071PANEL SOLAR MONO FACIAL1111447,31403533
A30: 29 | B30: =+VLOOKUP(ROW(),'Cumaribo (2)'!$A$3:$I$26,2,1) -> 4020030071 | C30: =+VLOOKUP($B30,'Cumaribo (2)'!$B$3:$I$26,MATCH(LLAVE!C$1,'Cumaribo (2)'!$B$3:$I$3,0),0) -> PANEL SOLAR MONO FACIAL | D30: CUMARIBO | E30: =+VLOOKUP($B30,'Cumaribo (2)'!$B$3:$I$26,MATCH(LLAVE!E$1,'Cumaribo (2)'!$B$3:$I$3,0),0) -> 1111447.3 | F30: 1 | G30: =+VLOOKUP($B30,'Cumaribo (2)'!$B$3:$I$26,MATCH(LLAVE!G$1,'Cumaribo (2)'!$B$3:$I$3,0),0) -> Panel solar Mono facial STC 460 Watt/tolerancia positiva en potencia +3%/0,6%degradacion lineal/eficiencia modulo >= 21,16%. (Incluye Suministro, transporte e instalación); según lo solicitado en el Memorando 20241520041873; en relación con el objeto del contrato “desarrollar e implementar soluciones individuales solares fotovoltaicas - SISFV para la ampliación de cobertura y mejorar las centrales de generación en las comunidades rurales y dispersas de la ZNI en los diferentes Municipios del Departamento de Vichada”., Proyecto de Generación Solar Híbrida en el Municipio de Cumaribo, Vichada, Contrato Interadministrativo 144 de 2021. | H30: =+A30&B30&C30&E30 -> 294020030071PANEL SOLAR MONO FACIAL1111447,31403533
A31: 30 | B31: =+VLOOKUP(ROW(),'Cumaribo (2)'!$A$3:$I$26,2,1) -> 4020030071 | C31: =+VLOOKUP($B31,'Cumaribo (2)'!$B$3:$I$26,MATCH(LLAVE!C$1,'Cumaribo (2)'!$B$3:$I$3,0),0) -> PANEL SOLAR MONO FACIAL | D31: CUMARIBO | E31: =+VLOOKUP($B31,'Cumaribo (2)'!$B$3:$I$26,MATCH(LLAVE!E$1,'Cumaribo (2)'!$B$3:$I$3,0),0) -> 1111447.3 | F31: 1 | G31: =+VLOOKUP($B31,'Cumaribo (2)'!$B$3:$I$26,MATCH(LLAVE!G$1,'Cumaribo (2)'!$B$3:$I$3,0),0) -> Panel solar Mono facial STC 460 Watt/tolerancia positiva en potencia +3%/0,6%degradacion lineal/eficiencia modulo >= 21,16%. (Incluye Suministro, transporte e instalación); según lo solicitado en el Memorando 20241520041873; en relación con el objeto del contrato “desarrollar e implementar soluciones individuales solares fotovoltaicas - SISFV para la ampliación de cobertura y mejorar las centrales de generación en las comunidades rurales y dispersas de la ZNI en los diferentes Municipios del Departamento de Vichada”., Proyecto de Generación Solar Híbrida en el Municipio de Cumaribo, Vichada, Contrato Interadministrativo 144 de 2021. | H31: =+A31&B31&C31&E31 -> 304020030071PANEL SOLAR MONO FACIAL1111447,31403533
A32: 31 | B32: =+VLOOKUP(ROW(),'Cumaribo (2)'!$A$3:$I$26,2,1) -> 4020030071 | C32: =+VLOOKUP($B32,'Cumaribo (2)'!$B$3:$I$26,MATCH(LLAVE!C$1,'Cumaribo (2)'!$B$3:$I$3,0),0) -> PANEL SOLAR MONO FACIAL | D32: CUMARIBO | E32: =+VLOOKUP($B32,'Cumaribo (2)'!$B$3:$I$26,MATCH(LLAVE!E$1,'Cumaribo (2)'!$B$3:$I$3,0),0) -> 1111447.3 | F32: 1 | G32: =+VLOOKUP($B32,'Cumaribo (2)'!$B$3:$I$26,MATCH(LLAVE!G$1,'Cumaribo (2)'!$B$3:$I$3,0),0) -> Panel solar Mono facial STC 460 Watt/tolerancia positiva en potencia +3%/0,6%degradacion lineal/eficiencia modulo >= 21,16%. (Incluye Suministro, transporte e instalación); según lo solicitado en el Memorando 20241520041873; en relación con el objeto del contrato “desarrollar e implementar soluciones individuales solares fotovoltaicas - SISFV para la ampliación de cobertura y mejorar las centrales de generación en las comunidades rurales y dispersas de la ZNI en los diferentes Municipios del Departamento de Vichada”., Proyecto de Generación Solar Híbrida en el Municipio de Cumaribo, Vichada, Contrato Interadministrativo 144 de 2021. | H32: =+A32&B32&C32&E32 -> 314020030071PANEL SOLAR MONO FACIAL1111447,31403533
... A3229: 3228 | B3229: =+VLOOKUP(ROW(),'Cumaribo (2)'!$A$3:$I$26,2,1) -> 4020010017 | C3229: =+VLOOKUP($B3229,'Cumaribo (2)'!$B$3:$I$26,MATCH(LLAVE!C$1,'Cumaribo (2)'!$B$3:$I$3,0),0) -> TANQUE DE COMBUSTIBLE GRUPO ELECTRÓGENOS | D3229: CUMARIBO | E3229: =+VLOOKUP($B3229,'Cumaribo (2)'!$B$3:$I$26,MATCH(LLAVE!E$1,'Cumaribo (2)'!$B$3:$I$3,0),0) -> 1.5121488e+08 | F3229: 1 | G3229: =+VLOOKUP($B3229,'Cumaribo (2)'!$B$3:$I$26,MATCH(LLAVE!G$1,'Cumaribo (2)'!$B$3:$I$3,0),0) -> Sistema de suministro y abastecimiento de combustible, Sistema de filtración Nanotec y mantenimiento de tanques principales (Incluye Suministro, transporte e instalación); según lo solicitado en el Memorando 20241520041873; en relación con el objeto del contrato “desarrollar e implementar soluciones individuales solares fotovoltaicas - SISFV para la ampliación de cobertura y mejorar las centrales de generación en las comunidades rurales y dispersas de la ZNI en los diferentes Municipios del Departamento de Vichada”., Proyecto de Generación Solar Híbrida en el Municipio de Cumaribo, Vichada, Contrato Interadministrativo 144 de 2021. | H3229: =+A3229&B3229&C3229&E3229 -> 32284020010017TANQUE DE COMBUSTIBLE GRUPO ELECTRÓGENOS151214879,938382
